BEGIN:VCALENDAR
VERSION:2.0
PRODID:-//Pueblo Of Sandia - ECPv6.15.15//NONSGML v1.0//EN
CALSCALE:GREGORIAN
METHOD:PUBLISH
X-WR-CALNAME:Pueblo Of Sandia
X-ORIGINAL-URL:https://www.sandiapueblo.nsn.us
X-WR-CALDESC:Events for Pueblo Of Sandia
REFRESH-INTERVAL;VALUE=DURATION:PT1H
X-Robots-Tag:noindex
X-PUBLISHED-TTL:PT1H
BEGIN:VTIMEZONE
TZID:America/Denver
BEGIN:DAYLIGHT
TZOFFSETFROM:-0700
TZOFFSETTO:-0600
TZNAME:MDT
DTSTART:20140309T090000
END:DAYLIGHT
BEGIN:STANDARD
TZOFFSETFROM:-0600
TZOFFSETTO:-0700
TZNAME:MST
DTSTART:20141102T080000
END:STANDARD
BEGIN:DAYLIGHT
TZOFFSETFROM:-0700
TZOFFSETTO:-0600
TZNAME:MDT
DTSTART:20150308T090000
END:DAYLIGHT
BEGIN:STANDARD
TZOFFSETFROM:-0600
TZOFFSETTO:-0700
TZNAME:MST
DTSTART:20151101T080000
END:STANDARD
BEGIN:DAYLIGHT
TZOFFSETFROM:-0700
TZOFFSETTO:-0600
TZNAME:MDT
DTSTART:20160313T090000
END:DAYLIGHT
BEGIN:STANDARD
TZOFFSETFROM:-0600
TZOFFSETTO:-0700
TZNAME:MST
DTSTART:20161106T080000
END:STANDARD
END:VTIMEZONE
BEGIN:VEVENT
DTSTART;TZID=America/Denver:20150817T080000
DTEND;TZID=America/Denver:20150817T170000
DTSTAMP:20260419T125032
CREATED:20150813T022451Z
LAST-MODIFIED:20150813T022451Z
UID:758-1439798400-1439830800@www.sandiapueblo.nsn.us
SUMMARY:Health Center
DESCRIPTION:Medical \nDr. Durell \nDr. Tran \nDental \nDr. Rodriguez \nBehavioral Health \nDr. Lundquist \nDr. Carey-by appoint \n 
URL:https://www.sandiapueblo.nsn.us/event/health-center-6/
LOCATION:Pueblo of Sandia Health Center
END:VEVENT
BEGIN:VEVENT
DTSTART;TZID=America/Denver:20150814T080000
DTEND;TZID=America/Denver:20150814T170000
DTSTAMP:20260419T125032
CREATED:20150813T022252Z
LAST-MODIFIED:20150813T022252Z
UID:757-1439539200-1439571600@www.sandiapueblo.nsn.us
SUMMARY:Health Center
DESCRIPTION:Medical \nDr. Fleg \n  \nDental \nDr. Rodriguez \n 
URL:https://www.sandiapueblo.nsn.us/event/health-center-5/
LOCATION:Pueblo of Sandia Health Center
END:VEVENT
BEGIN:VEVENT
DTSTART;TZID=America/Denver:20150813T080000
DTEND;TZID=America/Denver:20150813T170000
DTSTAMP:20260419T125032
CREATED:20150813T022223Z
LAST-MODIFIED:20150813T022223Z
UID:756-1439452800-1439485200@www.sandiapueblo.nsn.us
SUMMARY:Health Center
DESCRIPTION:Medical\nDr. Durell\nDr. Tran\nDental\nDr. Rodriguez 8a-3:30p\nHygienist 8a-5p\nBehavioral Health\nDr. Lundquist\nDr. Carey-by appoint \n 
URL:https://www.sandiapueblo.nsn.us/event/health-center-4/
LOCATION:Pueblo of Sandia Health Center
END:VEVENT
BEGIN:VEVENT
DTSTART;TZID=America/Denver:20150812T080000
DTEND;TZID=America/Denver:20150812T170000
DTSTAMP:20260419T125032
CREATED:20150813T021237Z
LAST-MODIFIED:20150813T021237Z
UID:755-1439366400-1439398800@www.sandiapueblo.nsn.us
SUMMARY:Health Center
DESCRIPTION:Medical\nDr. Durell\nDr. DeFelice\nDental\nDr. Rodriguez\nBehavioral Health\nDr. Lundquist \n 
URL:https://www.sandiapueblo.nsn.us/event/health-center-3/
LOCATION:Pueblo of Sandia Health Center
END:VEVENT
BEGIN:VEVENT
DTSTART;TZID=America/Denver:20150811T080000
DTEND;TZID=America/Denver:20150811T170000
DTSTAMP:20260419T125032
CREATED:20150813T021147Z
LAST-MODIFIED:20150813T021200Z
UID:754-1439280000-1439312400@www.sandiapueblo.nsn.us
SUMMARY:Health Center
DESCRIPTION:Medical\nDr. Durell\nDental\nDr. Rodriguez\nHygienist 8a-5p\nBehavioral Health\nDr. Lundquist\nDr. Townsend 1p-4:30p \n 
URL:https://www.sandiapueblo.nsn.us/event/754/
LOCATION:Pueblo of Sandia Health Center
END:VEVENT
BEGIN:VEVENT
DTSTART;TZID=America/Denver:20150810T080000
DTEND;TZID=America/Denver:20150810T170000
DTSTAMP:20260419T125032
CREATED:20150813T021120Z
LAST-MODIFIED:20150813T021120Z
UID:753-1439193600-1439226000@www.sandiapueblo.nsn.us
SUMMARY:Health Center
DESCRIPTION:Medical\nDr. Durell\nDr. Tran\nAudiology–8:30a-3:30p\nDental\nDr. Rodriguez\nBehavioral Health\nDr. Lundquist\nDr. Carey-by appoint \n 
URL:https://www.sandiapueblo.nsn.us/event/health-center-2/
LOCATION:Pueblo of Sandia Health Center
END:VEVENT
BEGIN:VEVENT
DTSTART;TZID=America/Denver:20150807T080000
DTEND;TZID=America/Denver:20150807T170000
DTSTAMP:20260419T125032
CREATED:20150813T020903Z
LAST-MODIFIED:20150813T020903Z
UID:752-1438934400-1438966800@www.sandiapueblo.nsn.us
SUMMARY:Health Center
DESCRIPTION:Medical\nDr. Durell \nDental\nTemp Dentist \n 
URL:https://www.sandiapueblo.nsn.us/event/health-center/
LOCATION:Pueblo of Sandia Health Center
END:VEVENT
BEGIN:VEVENT
DTSTART;TZID=America/Denver:20150806T080000
DTEND;TZID=America/Denver:20150806T170000
DTSTAMP:20260419T125032
CREATED:20150813T020654Z
LAST-MODIFIED:20150813T020745Z
UID:750-1438848000-1438880400@www.sandiapueblo.nsn.us
SUMMARY:Health Center
DESCRIPTION:Medical\n Dr. Durell\nDr. Tran\nPodiatry – Wilma PA 9a-2p\nDental\nTemp Dentist\nHygienist 8a-5p\nBehavioral Health\nDr. Lundquist \n 
URL:https://www.sandiapueblo.nsn.us/event/thursday-august-6/
LOCATION:Pueblo of Sandia Health Center
END:VEVENT
BEGIN:VEVENT
DTSTART;TZID=America/Denver:20150805T080000
DTEND;TZID=America/Denver:20150805T170000
DTSTAMP:20260419T125032
CREATED:20150813T020612Z
LAST-MODIFIED:20150813T020757Z
UID:749-1438761600-1438794000@www.sandiapueblo.nsn.us
SUMMARY:Health Center
DESCRIPTION:Medical\nDr. Durell\nOptometry 8a-12p\nPodiatry-Dr. Benally 8a-12p\nDr. DeFelice\nDental\nTemp Dentist\nBehavioral Health\nDr. Lundquist \n 
URL:https://www.sandiapueblo.nsn.us/event/wednesday-august-5/
LOCATION:Pueblo of Sandia Health Center
END:VEVENT
BEGIN:VEVENT
DTSTART;TZID=America/Denver:20150804T080000
DTEND;TZID=America/Denver:20150804T170000
DTSTAMP:20260419T125032
CREATED:20150813T020518Z
LAST-MODIFIED:20150813T020812Z
UID:748-1438675200-1438707600@www.sandiapueblo.nsn.us
SUMMARY:Health Center
DESCRIPTION:Medical\nDr. Durell\nDental\nTemp Dentist\nHygienist 8a-5p\nBehavioral Health\nDr. Lundquist \n 
URL:https://www.sandiapueblo.nsn.us/event/tuesday-august-4/
LOCATION:Pueblo of Sandia Health Center
END:VEVENT
BEGIN:VEVENT
DTSTART;TZID=America/Denver:20150803T080000
DTEND;TZID=America/Denver:20150803T170000
DTSTAMP:20260419T125032
CREATED:20150813T020211Z
LAST-MODIFIED:20150813T020817Z
UID:746-1438588800-1438621200@www.sandiapueblo.nsn.us
SUMMARY:Health Center
DESCRIPTION:Medical\nDr. Durell\nDr. Tran\nWIC 9a-12p\nDental\nDr. Rodriguez\nBehavioral Health\nDr. Lundquist \n  \n 
URL:https://www.sandiapueblo.nsn.us/event/monday-august-3/
LOCATION:Pueblo of Sandia Health Center
END:VEVENT
END:VCALENDAR